BEGIN:VCALENDAR
VERSION:2.0
PRODID:-//CEESPV-GHEE - ECPv6.15.20//NONSGML v1.0//EN
CALSCALE:GREGORIAN
METHOD:PUBLISH
X-ORIGINAL-URL:https://www.ceespv.org
X-WR-CALDESC:Eventos para CEESPV-GHEE
REFRESH-INTERVAL;VALUE=DURATION:PT1H
X-Robots-Tag:noindex
X-PUBLISHED-TTL:PT1H
BEGIN:VTIMEZONE
TZID:Europe/Madrid
BEGIN:DAYLIGHT
TZOFFSETFROM:+0100
TZOFFSETTO:+0200
TZNAME:CEST
DTSTART:20240331T010000
END:DAYLIGHT
BEGIN:STANDARD
TZOFFSETFROM:+0200
TZOFFSETTO:+0100
TZNAME:CET
DTSTART:20241027T010000
END:STANDARD
BEGIN:DAYLIGHT
TZOFFSETFROM:+0100
TZOFFSETTO:+0200
TZNAME:CEST
DTSTART:20250330T010000
END:DAYLIGHT
BEGIN:STANDARD
TZOFFSETFROM:+0200
TZOFFSETTO:+0100
TZNAME:CET
DTSTART:20251026T010000
END:STANDARD
BEGIN:DAYLIGHT
TZOFFSETFROM:+0100
TZOFFSETTO:+0200
TZNAME:CEST
DTSTART:20260329T010000
END:DAYLIGHT
BEGIN:STANDARD
TZOFFSETFROM:+0200
TZOFFSETTO:+0100
TZNAME:CET
DTSTART:20261025T010000
END:STANDARD
END:VTIMEZONE
BEGIN:VEVENT
DTSTART;TZID=Europe/Madrid:20251211T183000
DTEND;TZID=Europe/Madrid:20251211T203000
DTSTAMP:20260422T090149
CREATED:20251112T090551Z
LAST-MODIFIED:20251112T090720Z
UID:63414-1765477800-1765485000@www.ceespv.org
SUMMARY:Reunión Delegación Bizkaia
DESCRIPTION:
URL:https://www.ceespv.org/evento/reunion-delegacion-bizkaia/
LOCATION:Sede GHEE CEESPV\, Luzarra kalea\, 14-16\, 4\, dpto 2\, Bilbao\, bizkaia\, 48014
CATEGORIES:GHEEE-CEESPV
ORGANIZER;CN="GHEE CEESPV":MAILTO:ceespv@ceespv.org
END:VEVENT
END:VCALENDAR