BEGIN:VCALENDAR
VERSION:2.0
PRODID:-//CEESPV-GHEE - ECPv6.15.20//NONSGML v1.0//EN
CALSCALE:GREGORIAN
METHOD:PUBLISH
X-ORIGINAL-URL:https://www.ceespv.org
X-WR-CALDESC:Eventos para CEESPV-GHEE
REFRESH-INTERVAL;VALUE=DURATION:PT1H
X-Robots-Tag:noindex
X-PUBLISHED-TTL:PT1H
BEGIN:VTIMEZONE
TZID:Europe/Madrid
BEGIN:DAYLIGHT
TZOFFSETFROM:+0100
TZOFFSETTO:+0200
TZNAME:CEST
DTSTART:20240331T010000
END:DAYLIGHT
BEGIN:STANDARD
TZOFFSETFROM:+0200
TZOFFSETTO:+0100
TZNAME:CET
DTSTART:20241027T010000
END:STANDARD
BEGIN:DAYLIGHT
TZOFFSETFROM:+0100
TZOFFSETTO:+0200
TZNAME:CEST
DTSTART:20250330T010000
END:DAYLIGHT
BEGIN:STANDARD
TZOFFSETFROM:+0200
TZOFFSETTO:+0100
TZNAME:CET
DTSTART:20251026T010000
END:STANDARD
BEGIN:DAYLIGHT
TZOFFSETFROM:+0100
TZOFFSETTO:+0200
TZNAME:CEST
DTSTART:20260329T010000
END:DAYLIGHT
BEGIN:STANDARD
TZOFFSETFROM:+0200
TZOFFSETTO:+0100
TZNAME:CET
DTSTART:20261025T010000
END:STANDARD
END:VTIMEZONE
BEGIN:VEVENT
DTSTART;TZID=Europe/Madrid:20251102T100000
DTEND;TZID=Europe/Madrid:20251102T140000
DTSTAMP:20260422T040240
CREATED:20251020T074127Z
LAST-MODIFIED:20251020T075441Z
UID:63321-1762077600-1762092000@www.ceespv.org
SUMMARY:FORMACIÓN ÉTICA Y DEONTOLOGÍA HOGAR FUEROS IFAS
DESCRIPTION:
URL:https://www.ceespv.org/evento/formacion-etica-y-deontologia-hogar-fueros/
LOCATION:Hogar Fueros\, paseo fueros 3-5º\, Barakaldo\, Bizkaia\, 48901\, Spain
CATEGORIES:GHEEE-CEESPV
END:VEVENT
BEGIN:VEVENT
DTSTART;TZID=Europe/Madrid:20251117T100000
DTEND;TZID=Europe/Madrid:20251117T120000
DTSTAMP:20260422T040240
CREATED:20251104T084404Z
LAST-MODIFIED:20251104T084740Z
UID:63385-1763373600-1763380800@www.ceespv.org
SUMMARY:Formación ética y deontología alumnado de Udeusto
DESCRIPTION:
URL:https://www.ceespv.org/evento/formacion-etica-y-deontologia-alumnado-de-udeusto/
CATEGORIES:GHEEE-CEESPV
END:VEVENT
BEGIN:VEVENT
DTSTART;TZID=Europe/Madrid:20251124T173000
DTEND;TZID=Europe/Madrid:20251124T193000
DTSTAMP:20260422T040240
CREATED:20251027T174546Z
LAST-MODIFIED:20251027T174731Z
UID:63366-1764005400-1764012600@www.ceespv.org
SUMMARY:REUNIÓN DEL COMITE DE  ÉTICA Y DEONTOLOGÍA
DESCRIPTION:
URL:https://www.ceespv.org/evento/reunion-del-comite-de-etica-y-deontologia/
LOCATION:Sede GHEE CEESPV\, Luzarra kalea\, 14-16\, 4\, dpto 2\, Bilbao\, bizkaia\, 48014
CATEGORIES:GHEEE-CEESPV
END:VEVENT
END:VCALENDAR