BEGIN:VCALENDAR
VERSION:2.0
PRODID:-//CEESPV-GHEE - ECPv6.15.20//NONSGML v1.0//EN
CALSCALE:GREGORIAN
METHOD:PUBLISH
X-WR-CALNAME:CEESPV-GHEE
X-ORIGINAL-URL:https://www.ceespv.org/eu/
X-WR-CALDESC:Events for CEESPV-GHEE
REFRESH-INTERVAL;VALUE=DURATION:PT1H
X-Robots-Tag:noindex
X-PUBLISHED-TTL:PT1H
BEGIN:VTIMEZONE
TZID:Europe/Madrid
BEGIN:DAYLIGHT
TZOFFSETFROM:+0100
TZOFFSETTO:+0200
TZNAME:CEST
DTSTART:20250330T010000
END:DAYLIGHT
BEGIN:STANDARD
TZOFFSETFROM:+0200
TZOFFSETTO:+0100
TZNAME:CET
DTSTART:20251026T010000
END:STANDARD
BEGIN:DAYLIGHT
TZOFFSETFROM:+0100
TZOFFSETTO:+0200
TZNAME:CEST
DTSTART:20260329T010000
END:DAYLIGHT
BEGIN:STANDARD
TZOFFSETFROM:+0200
TZOFFSETTO:+0100
TZNAME:CET
DTSTART:20261025T010000
END:STANDARD
BEGIN:DAYLIGHT
TZOFFSETFROM:+0100
TZOFFSETTO:+0200
TZNAME:CEST
DTSTART:20270328T010000
END:DAYLIGHT
BEGIN:STANDARD
TZOFFSETFROM:+0200
TZOFFSETTO:+0100
TZNAME:CET
DTSTART:20271031T010000
END:STANDARD
END:VTIMEZONE
BEGIN:VEVENT
DTSTART;TZID=Europe/Madrid:20260413T130000
DTEND;TZID=Europe/Madrid:20260413T140000
DTSTAMP:20260421T104306
CREATED:20260408T100443Z
LAST-MODIFIED:20260408T100443Z
UID:63832-1776085200-1776088800@www.ceespv.org
SUMMARY:Gizarte Zerbitzuen Batzordea
DESCRIPTION:
URL:https://www.ceespv.org/eu/evento/gizarte-zerbitzuen-batzordea-4/
LOCATION:Donostia
CATEGORIES:GHEEE-CEESPV
END:VEVENT
BEGIN:VEVENT
DTSTART;TZID=Europe/Madrid:20260414T193000
DTEND;TZID=Europe/Madrid:20260414T213000
DTSTAMP:20260421T104306
CREATED:20260114T101931Z
LAST-MODIFIED:20260114T101931Z
UID:63475-1776195000-1776202200@www.ceespv.org
SUMMARY:GOBERNU BATZORDEAREN BILERA
DESCRIPTION:
URL:https://www.ceespv.org/eu/evento/gobernu-batzordearen-bilera-14/
LOCATION:Online
CATEGORIES:GHEEE-CEESPV
ORGANIZER;CN="GHEE CEESPV":MAILTO:ceespv@ceespv.org
END:VEVENT
BEGIN:VEVENT
DTSTART;TZID=Europe/Madrid:20260415T120000
DTEND;TZID=Europe/Madrid:20260415T130000
DTSTAMP:20260421T104306
CREATED:20260407T090550Z
LAST-MODIFIED:20260407T090550Z
UID:63798-1776254400-1776258000@www.ceespv.org
SUMMARY:emakumeenganako indarkeria ekonomikoaren aurkako sentsibilizazioa
DESCRIPTION:
URL:https://www.ceespv.org/eu/evento/emakumeenganako-indarkeria-ekonomikoaren-aurkako-sentsibilizazioa/
LOCATION:Online
CATEGORIES:GHEEE-CEESPV
ORGANIZER;CN="GHEE CEESPV":MAILTO:ceespv@ceespv.org
END:VEVENT
BEGIN:VEVENT
DTSTART;TZID=Europe/Madrid:20260416T110000
DTEND;TZID=Europe/Madrid:20260416T120000
DTSTAMP:20260421T104306
CREATED:20260408T090104Z
LAST-MODIFIED:20260408T090104Z
UID:63817-1776337200-1776340800@www.ceespv.org
SUMMARY:Familiaren Euskal Kontseilua eta Haurren eta Nerabeen Euskal Kontseilua
DESCRIPTION:
URL:https://www.ceespv.org/eu/evento/familiaren-euskal-kontseilua-eta-haurren-eta-nerabeen-euskal-kontseilua/
LOCATION:Gobierno Vasco
CATEGORIES:GHEEE-CEESPV
END:VEVENT
BEGIN:VEVENT
DTSTART;TZID=Europe/Madrid:20260421T100000
DTEND;TZID=Europe/Madrid:20260421T130000
DTSTAMP:20260421T104306
CREATED:20260416T102122Z
LAST-MODIFIED:20260416T102122Z
UID:63880-1776765600-1776776400@www.ceespv.org
SUMMARY:HIRUGARREN SEKTORE SOZIALA ETA EKITATE DIGITALA
DESCRIPTION:
URL:https://www.ceespv.org/eu/evento/hirugarren-sektore-soziala-eta-ekitate-digitala/
LOCATION:BIZKAIA ARETOA
CATEGORIES:GHEEE-CEESPV
END:VEVENT
BEGIN:VEVENT
DTSTART;TZID=Europe/Madrid:20260421T133000
DTEND;TZID=Europe/Madrid:20260421T143000
DTSTAMP:20260421T104306
CREATED:20260408T084144Z
LAST-MODIFIED:20260408T084144Z
UID:63802-1776778200-1776781800@www.ceespv.org
SUMMARY:Eusko Jaurlaritzaren Zientzia\, Unibertsitate eta Berrikuntza Sailaren bilera
DESCRIPTION:
URL:https://www.ceespv.org/eu/evento/eusko-jaurlaritzaren-zientzia-unibertsitate-eta-berrikuntza-sailaren-bilera/
LOCATION:Gobierno Vasco
CATEGORIES:GHEEE-CEESPV
END:VEVENT
BEGIN:VEVENT
DTSTART;TZID=Europe/Madrid:20260421T173000
DTEND;TZID=Europe/Madrid:20260421T183000
DTSTAMP:20260421T104306
CREATED:20260408T085324Z
LAST-MODIFIED:20260408T085324Z
UID:63811-1776792600-1776796200@www.ceespv.org
SUMMARY:Etika eta deontologia batzordearen bilera
DESCRIPTION:
URL:https://www.ceespv.org/eu/evento/etika-eta-deontologia-batzordearen-bilera-5/
LOCATION:Online
CATEGORIES:GHEEE-CEESPV
END:VEVENT
BEGIN:VEVENT
DTSTART;TZID=Europe/Madrid:20260423T100000
DTEND;TZID=Europe/Madrid:20260423T130000
DTSTAMP:20260421T104306
CREATED:20260306T125649Z
LAST-MODIFIED:20260306T125649Z
UID:63685-1776938400-1776949200@www.ceespv.org
SUMMARY:Tailer teoriko praktikoa: prebentzioa\, arintzea eta autobabesa\, gizarte hezkuntza arloko esku-hartzearen arrisku-egoeren aurrean
DESCRIPTION:
URL:https://www.ceespv.org/eu/evento/tailer-teoriko-praktikoa-prebentzioa-arintzea-eta-autobabesa-gizarte-hezkuntza-arloko-esku-hartzearen-arrisku-egoeren-aurrean/
LOCATION:plaza indautxu
CATEGORIES:GHEEE-CEESPV
ORGANIZER;CN="GHEE CEESPV":MAILTO:ceespv@ceespv.org
END:VEVENT
BEGIN:VEVENT
DTSTART;TZID=Europe/Madrid:20260424T100000
DTEND;TZID=Europe/Madrid:20260424T130000
DTSTAMP:20260421T104306
CREATED:20260407T085825Z
LAST-MODIFIED:20260407T085825Z
UID:63792-1777024800-1777035600@www.ceespv.org
SUMMARY:Tailer teoriko praktikoa: prebentzioa\, arintzea eta autobabesa\, gizarte hezkuntza arloko esku-hartzearen arrisku-egoeren aurrean
DESCRIPTION:
URL:https://www.ceespv.org/eu/evento/tailer-teoriko-praktikoa-prebentzioa-arintzea-eta-autobabesa-gizarte-hezkuntza-arloko-esku-hartzearen-arrisku-egoeren-aurrean-3/
LOCATION:plaza indautxu
CATEGORIES:GHEEE-CEESPV
ORGANIZER;CN="GHEE CEESPV":MAILTO:ceespv@ceespv.org
END:VEVENT
BEGIN:VEVENT
DTSTART;TZID=Europe/Madrid:20260424T170000
DTEND;TZID=Europe/Madrid:20260424T183000
DTSTAMP:20260421T104306
CREATED:20260407T090142Z
LAST-MODIFIED:20260407T090142Z
UID:63795-1777050000-1777055400@www.ceespv.org
SUMMARY:Trauma erlazional goiztiarra: nola lagundu konponketa-prozesuetan
DESCRIPTION:
URL:https://www.ceespv.org/eu/evento/trauma-erlazional-goiztiarra-nola-lagundu-konponketa-prozesuetan/
LOCATION:Sede GHEE CEESPV\, Luzarra kalea\, 14-16\, 4\, dpto 2\, Bilbao\, bizkaia\, 48014
CATEGORIES:GHEEE-CEESPV
ORGANIZER;CN="GHEE CEESPV":MAILTO:ceespv@ceespv.org
END:VEVENT
BEGIN:VEVENT
DTSTART;TZID=Europe/Madrid:20260428T190000
DTEND;TZID=Europe/Madrid:20260428T210000
DTSTAMP:20260421T104306
CREATED:20260114T102257Z
LAST-MODIFIED:20260114T102257Z
UID:63479-1777402800-1777410000@www.ceespv.org
SUMMARY:GOBERNU BATZORDEAREN BILERA
DESCRIPTION:
URL:https://www.ceespv.org/eu/evento/gobernu-batzordearen-bilera-15/
LOCATION:Online
CATEGORIES:GHEEE-CEESPV
ORGANIZER;CN="GHEE CEESPV":MAILTO:ceespv@ceespv.org
END:VEVENT
BEGIN:VEVENT
DTSTART;TZID=Europe/Madrid:20260429T100000
DTEND;TZID=Europe/Madrid:20260429T110000
DTSTAMP:20260421T104306
CREATED:20260216T112701Z
LAST-MODIFIED:20260216T112701Z
UID:63567-1777456800-1777460400@www.ceespv.org
SUMMARY:ODS IRRATIAN PARTE-HARTZEA
DESCRIPTION:
URL:https://www.ceespv.org/eu/evento/ods-irratian-parte-hartzea/
LOCATION:EHU\, Barrio Sarriena sn\, Leioa\, Bizkaia\, 48940\, Spain
CATEGORIES:GHEEE-CEESPV
END:VEVENT
BEGIN:VEVENT
DTSTART;TZID=Europe/Madrid:20260505T130000
DTEND;TZID=Europe/Madrid:20260505T140000
DTSTAMP:20260421T104306
CREATED:20260408T100703Z
LAST-MODIFIED:20260408T100703Z
UID:63835-1777986000-1777989600@www.ceespv.org
SUMMARY:Gizarte Zerbitzuen Batzordea
DESCRIPTION:
URL:https://www.ceespv.org/eu/evento/gizarte-zerbitzuen-batzordea-5/
LOCATION:Donostia
CATEGORIES:GHEEE-CEESPV
END:VEVENT
BEGIN:VEVENT
DTSTART;TZID=Europe/Madrid:20260506T093000
DTEND;TZID=Europe/Madrid:20260506T113000
DTSTAMP:20260421T104306
CREATED:20260309T110939Z
LAST-MODIFIED:20260309T110939Z
UID:63701-1778059800-1778067000@www.ceespv.org
SUMMARY:G.H PLAZARA
DESCRIPTION:
URL:https://www.ceespv.org/eu/evento/g-h-plazara/
LOCATION:presencial Bilbao
CATEGORIES:GHEEE-CEESPV
END:VEVENT
BEGIN:VEVENT
DTSTART;TZID=Europe/Madrid:20260506T120000
DTEND;TZID=Europe/Madrid:20260506T130000
DTSTAMP:20260421T104306
CREATED:20260408T085641Z
LAST-MODIFIED:20260408T085641Z
UID:63814-1778068800-1778072400@www.ceespv.org
SUMMARY:Gizarte Zerbitzuen Euskal Kontseilua
DESCRIPTION:
URL:https://www.ceespv.org/eu/evento/gizarte-zerbitzuen-euskal-kontseilua/
LOCATION:Gobierno Vasco
CATEGORIES:GHEEE-CEESPV
END:VEVENT
BEGIN:VEVENT
DTSTART;TZID=Europe/Madrid:20260514T190000
DTEND;TZID=Europe/Madrid:20260514T210000
DTSTAMP:20260421T104306
CREATED:20260114T102455Z
LAST-MODIFIED:20260114T102455Z
UID:63481-1778785200-1778792400@www.ceespv.org
SUMMARY:GOBERNU BATZORDEAREN BILERA
DESCRIPTION:
URL:https://www.ceespv.org/eu/evento/gobernu-batzordearen-bilera-16/
LOCATION:Online
CATEGORIES:GHEEE-CEESPV
ORGANIZER;CN="GHEE CEESPV":MAILTO:ceespv@ceespv.org
END:VEVENT
BEGIN:VEVENT
DTSTART;TZID=Europe/Madrid:20260515T123000
DTEND;TZID=Europe/Madrid:20260515T140000
DTSTAMP:20260421T104306
CREATED:20260309T111307Z
LAST-MODIFIED:20260309T111307Z
UID:63705-1778848200-1778853600@www.ceespv.org
SUMMARY:PSIKOLOGIA KALEAN
DESCRIPTION:
URL:https://www.ceespv.org/eu/evento/psikologia-kalean/
LOCATION:presencial Bilbao
CATEGORIES:GHEEE-CEESPV
END:VEVENT
BEGIN:VEVENT
DTSTART;TZID=Europe/Madrid:20260519T150000
DTEND;TZID=Europe/Madrid:20260519T160000
DTSTAMP:20260421T104306
CREATED:20260408T084645Z
LAST-MODIFIED:20260408T084645Z
UID:63805-1779202800-1779206400@www.ceespv.org
SUMMARY:Unibertsitateak-elkargoa batzorde mistoaren ikerketa-bilera
DESCRIPTION:
URL:https://www.ceespv.org/eu/evento/unibertsitateak-elkargoa-batzorde-mistoaren-ikerketa-bilera-2/
LOCATION:Online
CATEGORIES:GHEEE-CEESPV
END:VEVENT
BEGIN:VEVENT
DTSTART;VALUE=DATE:20260521
DTEND;VALUE=DATE:20260524
DTSTAMP:20260421T104306
CREATED:20260114T103636Z
LAST-MODIFIED:20260114T103636Z
UID:63495-1779321600-1779580799@www.ceespv.org
SUMMARY:GIZARTE HEZKUNTZAREN ESTATUKO KONGRESUA
DESCRIPTION:
URL:https://www.ceespv.org/eu/evento/gizarte-hezkuntzaren-estatuko-kongresua/
LOCATION:CARTAGENA\, CARTAGENA\, MURCIA
CATEGORIES:CGCEES
END:VEVENT
BEGIN:VEVENT
DTSTART;TZID=Europe/Madrid:20260602T150000
DTEND;TZID=Europe/Madrid:20260602T160000
DTSTAMP:20260421T104306
CREATED:20260312T101936Z
LAST-MODIFIED:20260312T101936Z
UID:63724-1780412400-1780416000@www.ceespv.org
SUMMARY:UNIBERTSITATEEN BATZORDE MISTOAREN BILERA
DESCRIPTION:
URL:https://www.ceespv.org/eu/evento/unibertsitateen-batzorde-mistoaren-bilera/
LOCATION:Online
CATEGORIES:GHEEE-CEESPV
END:VEVENT
BEGIN:VEVENT
DTSTART;TZID=Europe/Madrid:20260602T150000
DTEND;TZID=Europe/Madrid:20260602T160000
DTSTAMP:20260421T104306
CREATED:20260408T084931Z
LAST-MODIFIED:20260408T084931Z
UID:63808-1780412400-1780416000@www.ceespv.org
SUMMARY:Unibertsitateen eta elkargo arteko batzorde mistoaren bilera
DESCRIPTION:
URL:https://www.ceespv.org/eu/evento/unibertsitateen-eta-elkargo-arteko-batzorde-mistoaren-bilera/
LOCATION:Online
CATEGORIES:GHEEE-CEESPV
END:VEVENT
BEGIN:VEVENT
DTSTART;TZID=Europe/Madrid:20260602T193000
DTEND;TZID=Europe/Madrid:20260602T213000
DTSTAMP:20260421T104306
CREATED:20260114T102650Z
LAST-MODIFIED:20260114T102650Z
UID:63484-1780428600-1780435800@www.ceespv.org
SUMMARY:GOBERNU BATZORDEAREN BILERA
DESCRIPTION:
URL:https://www.ceespv.org/eu/evento/gobernu-batzordearen-bilera-17/
LOCATION:Online
CATEGORIES:GHEEE-CEESPV
ORGANIZER;CN="GHEE CEESPV":MAILTO:ceespv@ceespv.org
END:VEVENT
BEGIN:VEVENT
DTSTART;TZID=Europe/Madrid:20260618T190000
DTEND;TZID=Europe/Madrid:20260618T210000
DTSTAMP:20260421T104306
CREATED:20260114T102832Z
LAST-MODIFIED:20260114T102832Z
UID:63489-1781809200-1781816400@www.ceespv.org
SUMMARY:GOBERNU BATZORDEAREN BILERA
DESCRIPTION:
URL:https://www.ceespv.org/eu/evento/gobernu-batzordearen-bilera-18/
LOCATION:Online
CATEGORIES:GHEEE-CEESPV
ORGANIZER;CN="GHEE CEESPV":MAILTO:ceespv@ceespv.org
END:VEVENT
END:VCALENDAR