BEGIN:VCALENDAR
VERSION:2.0
PRODID:-//CEESPV-GHEE - ECPv6.15.20//NONSGML v1.0//EN
CALSCALE:GREGORIAN
METHOD:PUBLISH
X-ORIGINAL-URL:https://www.ceespv.org/eu/
X-WR-CALDESC:Events for CEESPV-GHEE
REFRESH-INTERVAL;VALUE=DURATION:PT1H
X-Robots-Tag:noindex
X-PUBLISHED-TTL:PT1H
BEGIN:VTIMEZONE
TZID:Europe/Madrid
BEGIN:DAYLIGHT
TZOFFSETFROM:+0100
TZOFFSETTO:+0200
TZNAME:CEST
DTSTART:20240331T010000
END:DAYLIGHT
BEGIN:STANDARD
TZOFFSETFROM:+0200
TZOFFSETTO:+0100
TZNAME:CET
DTSTART:20241027T010000
END:STANDARD
BEGIN:DAYLIGHT
TZOFFSETFROM:+0100
TZOFFSETTO:+0200
TZNAME:CEST
DTSTART:20250330T010000
END:DAYLIGHT
BEGIN:STANDARD
TZOFFSETFROM:+0200
TZOFFSETTO:+0100
TZNAME:CET
DTSTART:20251026T010000
END:STANDARD
BEGIN:DAYLIGHT
TZOFFSETFROM:+0100
TZOFFSETTO:+0200
TZNAME:CEST
DTSTART:20260329T010000
END:DAYLIGHT
BEGIN:STANDARD
TZOFFSETFROM:+0200
TZOFFSETTO:+0100
TZNAME:CET
DTSTART:20261025T010000
END:STANDARD
END:VTIMEZONE
BEGIN:VEVENT
DTSTART;TZID=Europe/Madrid:20251102T100000
DTEND;TZID=Europe/Madrid:20251102T140000
DTSTAMP:20260424T121555
CREATED:20251020T074127Z
LAST-MODIFIED:20251020T075926Z
UID:63327-1762077600-1762092000@www.ceespv.org
SUMMARY:GUFE FUEROS ETXEKO ETIKA ETADEONTOLOGIA PRESTAKUNTZA
DESCRIPTION:
URL:https://www.ceespv.org/eu/evento/formacion-etica-y-deontologia-hogar-fuero-ifas/
LOCATION:Hogar Fueros\, paseo fueros 3-5º\, Barakaldo\, Bizkaia\, 48901\, Spain
CATEGORIES:GHEEE-CEESPV
END:VEVENT
BEGIN:VEVENT
DTSTART;TZID=Europe/Madrid:20251109T100000
DTEND;TZID=Europe/Madrid:20251109T140000
DTSTAMP:20260424T121555
CREATED:20251020T080155Z
LAST-MODIFIED:20251020T080155Z
UID:63336-1762682400-1762696800@www.ceespv.org
SUMMARY:GUFE FUEROS ETXEKO ETIKA ETA DEONTOLOGIA PRESTAKUNTZA
DESCRIPTION:
URL:https://www.ceespv.org/eu/evento/gufe-fueros-etxeko-etika-eta-deontologia-prestakuntza/
LOCATION:Hogar Fueros\, paseo fueros 3-5º\, Barakaldo\, Bizkaia\, 48901\, Spain
CATEGORIES:GHEEE-CEESPV
END:VEVENT
END:VCALENDAR