BEGIN:VCALENDAR
VERSION:2.0
PRODID:-//CEESPV-GHEE - ECPv6.15.20//NONSGML v1.0//EN
CALSCALE:GREGORIAN
METHOD:PUBLISH
X-WR-CALNAME:CEESPV-GHEE
X-ORIGINAL-URL:https://www.ceespv.org/eu/
X-WR-CALDESC:Events for CEESPV-GHEE
REFRESH-INTERVAL;VALUE=DURATION:PT1H
X-Robots-Tag:noindex
X-PUBLISHED-TTL:PT1H
BEGIN:VTIMEZONE
TZID:Europe/Madrid
BEGIN:DAYLIGHT
TZOFFSETFROM:+0100
TZOFFSETTO:+0200
TZNAME:CEST
DTSTART:20240331T010000
END:DAYLIGHT
BEGIN:STANDARD
TZOFFSETFROM:+0200
TZOFFSETTO:+0100
TZNAME:CET
DTSTART:20241027T010000
END:STANDARD
BEGIN:DAYLIGHT
TZOFFSETFROM:+0100
TZOFFSETTO:+0200
TZNAME:CEST
DTSTART:20250330T010000
END:DAYLIGHT
BEGIN:STANDARD
TZOFFSETFROM:+0200
TZOFFSETTO:+0100
TZNAME:CET
DTSTART:20251026T010000
END:STANDARD
BEGIN:DAYLIGHT
TZOFFSETFROM:+0100
TZOFFSETTO:+0200
TZNAME:CEST
DTSTART:20260329T010000
END:DAYLIGHT
BEGIN:STANDARD
TZOFFSETFROM:+0200
TZOFFSETTO:+0100
TZNAME:CET
DTSTART:20261025T010000
END:STANDARD
END:VTIMEZONE
BEGIN:VEVENT
DTSTART;TZID=Europe/Madrid:20251003T080000
DTEND;TZID=Europe/Madrid:20251004T170000
DTSTAMP:20260424T140728
CREATED:20250930T100208Z
LAST-MODIFIED:20250930T100208Z
UID:63233-1759478400-1759597200@www.ceespv.org
SUMMARY:Etika eta deontologia komite topaketa CGCEES
DESCRIPTION:
URL:https://www.ceespv.org/eu/evento/etika-eta-deontologia-komite-topaketa-cgcees/
LOCATION:Madrid\, Madrid
CATEGORIES:CGCEES
END:VEVENT
BEGIN:VEVENT
DTSTART;TZID=Europe/Madrid:20251028T180000
DTEND;TZID=Europe/Madrid:20251028T200000
DTSTAMP:20260424T140728
CREATED:20250930T113218Z
LAST-MODIFIED:20250930T113218Z
UID:63276-1761674400-1761681600@www.ceespv.org
SUMMARY:CGCEESen etika eta deontologia batzordearen bilera
DESCRIPTION:
URL:https://www.ceespv.org/eu/evento/cgceesen-etika-eta-deontologia-batzordearen-bilera/
LOCATION:Online
CATEGORIES:CGCEES
END:VEVENT
END:VCALENDAR