BEGIN:VCALENDAR
VERSION:2.0
PRODID:-//CEESPV-GHEE - ECPv6.15.20//NONSGML v1.0//EN
CALSCALE:GREGORIAN
METHOD:PUBLISH
X-WR-CALNAME:CEESPV-GHEE
X-ORIGINAL-URL:https://www.ceespv.org/eu/
X-WR-CALDESC:Events for CEESPV-GHEE
REFRESH-INTERVAL;VALUE=DURATION:PT1H
X-Robots-Tag:noindex
X-PUBLISHED-TTL:PT1H
BEGIN:VTIMEZONE
TZID:Europe/Madrid
BEGIN:DAYLIGHT
TZOFFSETFROM:+0100
TZOFFSETTO:+0200
TZNAME:CEST
DTSTART:20240331T010000
END:DAYLIGHT
BEGIN:STANDARD
TZOFFSETFROM:+0200
TZOFFSETTO:+0100
TZNAME:CET
DTSTART:20241027T010000
END:STANDARD
BEGIN:DAYLIGHT
TZOFFSETFROM:+0100
TZOFFSETTO:+0200
TZNAME:CEST
DTSTART:20250330T010000
END:DAYLIGHT
BEGIN:STANDARD
TZOFFSETFROM:+0200
TZOFFSETTO:+0100
TZNAME:CET
DTSTART:20251026T010000
END:STANDARD
BEGIN:DAYLIGHT
TZOFFSETFROM:+0100
TZOFFSETTO:+0200
TZNAME:CEST
DTSTART:20260329T010000
END:DAYLIGHT
BEGIN:STANDARD
TZOFFSETFROM:+0200
TZOFFSETTO:+0100
TZNAME:CET
DTSTART:20261025T010000
END:STANDARD
END:VTIMEZONE
BEGIN:VEVENT
DTSTART;TZID=Europe/Madrid:20250312T093000
DTEND;TZID=Europe/Madrid:20250312T110000
DTSTAMP:20260424T000401
CREATED:20250402T081249Z
LAST-MODIFIED:20250402T081249Z
UID:62839-1741771800-1741777200@www.ceespv.org
SUMMARY:Gipuzkoako Ordezkaritzaren eta EHUren arteko bilera
DESCRIPTION:
URL:https://www.ceespv.org/eu/evento/gipuzkoako-ordezkaritzaren-eta-ehuren-arteko-bilera/
LOCATION:HEFA Donostia
CATEGORIES:GHEEE-CEESPV
END:VEVENT
BEGIN:VEVENT
DTSTART;TZID=Europe/Madrid:20250312T203000
DTEND;TZID=Europe/Madrid:20250312T220000
DTSTAMP:20260424T000401
CREATED:20250311T162522Z
LAST-MODIFIED:20250311T162522Z
UID:62760-1741811400-1741816800@www.ceespv.org
SUMMARY:Gipuzkoako ordezkaritzaren bilera
DESCRIPTION:
URL:https://www.ceespv.org/eu/evento/gipuzkoako-ordezkaritzaren-bilera-2/
CATEGORIES:GHEEE-CEESPV
END:VEVENT
BEGIN:VEVENT
DTSTART;TZID=Europe/Madrid:20250327T090000
DTEND;TZID=Europe/Madrid:20250327T100000
DTSTAMP:20260424T000401
CREATED:20250402T081549Z
LAST-MODIFIED:20250402T081549Z
UID:62844-1743066000-1743069600@www.ceespv.org
SUMMARY:Elkargoaren eta errealitate profesionalaren aurkezpena UDeusto Donostian
DESCRIPTION:
URL:https://www.ceespv.org/eu/evento/elkargoaren-eta-errealitate-profesionalaren-aurkezpena-udeusto-donostian/
LOCATION:Universidad Deusto Donostia
CATEGORIES:GHEEE-CEESPV
END:VEVENT
BEGIN:VEVENT
DTSTART;TZID=Europe/Madrid:20250331T100000
DTEND;TZID=Europe/Madrid:20250331T110000
DTSTAMP:20260424T000401
CREATED:20250402T082326Z
LAST-MODIFIED:20250402T082326Z
UID:62851-1743415200-1743418800@www.ceespv.org
SUMMARY:Gipuzkoako Ordezkaritzaren eta sindikatuen arteko bilera
DESCRIPTION:
URL:https://www.ceespv.org/eu/evento/gipuzkoako-ordezkaritzaren-eta-sindikatuen-arteko-bilera/
LOCATION:Universidad Deusto Donostia
CATEGORIES:GHEEE-CEESPV
END:VEVENT
BEGIN:VEVENT
DTSTART;TZID=Europe/Madrid:20250331T110000
DTEND;TZID=Europe/Madrid:20250331T120000
DTSTAMP:20260424T000401
CREATED:20250402T081924Z
LAST-MODIFIED:20250402T081924Z
UID:62847-1743418800-1743422400@www.ceespv.org
SUMMARY:Elkargoaren aurkezpena eta esku-hartze esparruak ( Donostiako U Deustuko 2. mailako ikasleak)
DESCRIPTION:Aurkezpena E
URL:https://www.ceespv.org/eu/evento/elkargoaren-aurkezpena-eta-esku-hartze-esparruak-donostiako-u-deustuko-2-mailako-ikasleak/
LOCATION:Universidad Deusto Donostia
CATEGORIES:GHEEE-CEESPV
END:VEVENT
END:VCALENDAR