BEGIN:VCALENDAR
VERSION:2.0
PRODID:-//CEESPV-GHEE - ECPv6.15.20//NONSGML v1.0//EN
CALSCALE:GREGORIAN
METHOD:PUBLISH
X-WR-CALNAME:CEESPV-GHEE
X-ORIGINAL-URL:https://www.ceespv.org/eu/
X-WR-CALDESC:Events for CEESPV-GHEE
REFRESH-INTERVAL;VALUE=DURATION:PT1H
X-Robots-Tag:noindex
X-PUBLISHED-TTL:PT1H
BEGIN:VTIMEZONE
TZID:Europe/Madrid
BEGIN:DAYLIGHT
TZOFFSETFROM:+0100
TZOFFSETTO:+0200
TZNAME:CEST
DTSTART:20240331T010000
END:DAYLIGHT
BEGIN:STANDARD
TZOFFSETFROM:+0200
TZOFFSETTO:+0100
TZNAME:CET
DTSTART:20241027T010000
END:STANDARD
BEGIN:DAYLIGHT
TZOFFSETFROM:+0100
TZOFFSETTO:+0200
TZNAME:CEST
DTSTART:20250330T010000
END:DAYLIGHT
BEGIN:STANDARD
TZOFFSETFROM:+0200
TZOFFSETTO:+0100
TZNAME:CET
DTSTART:20251026T010000
END:STANDARD
BEGIN:DAYLIGHT
TZOFFSETFROM:+0100
TZOFFSETTO:+0200
TZNAME:CEST
DTSTART:20260329T010000
END:DAYLIGHT
BEGIN:STANDARD
TZOFFSETFROM:+0200
TZOFFSETTO:+0100
TZNAME:CET
DTSTART:20261025T010000
END:STANDARD
END:VTIMEZONE
BEGIN:VEVENT
DTSTART;TZID=Europe/Madrid:20251202T090000
DTEND;TZID=Europe/Madrid:20251202T110000
DTSTAMP:20260421T213630
CREATED:20251201T091633Z
LAST-MODIFIED:20251201T091633Z
UID:63446-1764666000-1764673200@www.ceespv.org
SUMMARY:PARTE HARTZEKO LANTALDEA
DESCRIPTION:
URL:https://www.ceespv.org/eu/evento/parte-hartzeko-lantaldea/
LOCATION:Online
CATEGORIES:GHEEE-CEESPV
ORGANIZER;CN="GHEE CEESPV":MAILTO:ceespv@ceespv.org
END:VEVENT
BEGIN:VEVENT
DTSTART;TZID=Europe/Madrid:20251204T110000
DTEND;TZID=Europe/Madrid:20251204T130000
DTSTAMP:20260421T213630
CREATED:20251201T092331Z
LAST-MODIFIED:20251201T092331Z
UID:63450-1764846000-1764853200@www.ceespv.org
SUMMARY:ESTRATEGIA JURIDIKOA
DESCRIPTION:
URL:https://www.ceespv.org/eu/evento/estrategia-juridikoa/
LOCATION:Online
CATEGORIES:GHEEE-CEESPV
ORGANIZER;CN="GHEE CEESPV":MAILTO:ceespv@ceespv.org
END:VEVENT
BEGIN:VEVENT
DTSTART;TZID=Europe/Madrid:20251209T090000
DTEND;TZID=Europe/Madrid:20251209T110000
DTSTAMP:20260421T213630
CREATED:20251201T092628Z
LAST-MODIFIED:20251201T092628Z
UID:63453-1765270800-1765278000@www.ceespv.org
SUMMARY:ESTRATEGIA JURIDIKOA
DESCRIPTION:
URL:https://www.ceespv.org/eu/evento/estrategia-juridikoa-2/
LOCATION:Online
CATEGORIES:GHEEE-CEESPV
ORGANIZER;CN="GHEE CEESPV":MAILTO:ceespv@ceespv.org
END:VEVENT
BEGIN:VEVENT
DTSTART;TZID=Europe/Madrid:20251219T110000
DTEND;TZID=Europe/Madrid:20251219T120000
DTSTAMP:20260421T213630
CREATED:20251112T091330Z
LAST-MODIFIED:20251112T091330Z
UID:63422-1766142000-1766145600@www.ceespv.org
SUMMARY:Idazkari teknikoentzako prestakuntza juridikoa eta datuen babesari buruzkoa
DESCRIPTION:
URL:https://www.ceespv.org/eu/evento/idazkari-teknikoentzako-prestakuntza-juridikoa-eta-datuen-babesari-buruzkoa/
LOCATION:Online
CATEGORIES:GHEEE-CEESPV
ORGANIZER;CN="GHEE CEESPV":MAILTO:ceespv@ceespv.org
END:VEVENT
END:VCALENDAR