BEGIN:VCALENDAR
VERSION:2.0
PRODID:-//CEESPV-GHEE - ECPv6.15.20//NONSGML v1.0//EN
CALSCALE:GREGORIAN
METHOD:PUBLISH
X-ORIGINAL-URL:https://www.ceespv.org/eu/
X-WR-CALDESC:Events for CEESPV-GHEE
REFRESH-INTERVAL;VALUE=DURATION:PT1H
X-Robots-Tag:noindex
X-PUBLISHED-TTL:PT1H
BEGIN:VTIMEZONE
TZID:Europe/Madrid
BEGIN:DAYLIGHT
TZOFFSETFROM:+0100
TZOFFSETTO:+0200
TZNAME:CEST
DTSTART:20240331T010000
END:DAYLIGHT
BEGIN:STANDARD
TZOFFSETFROM:+0200
TZOFFSETTO:+0100
TZNAME:CET
DTSTART:20241027T010000
END:STANDARD
BEGIN:DAYLIGHT
TZOFFSETFROM:+0100
TZOFFSETTO:+0200
TZNAME:CEST
DTSTART:20250330T010000
END:DAYLIGHT
BEGIN:STANDARD
TZOFFSETFROM:+0200
TZOFFSETTO:+0100
TZNAME:CET
DTSTART:20251026T010000
END:STANDARD
BEGIN:DAYLIGHT
TZOFFSETFROM:+0100
TZOFFSETTO:+0200
TZNAME:CEST
DTSTART:20260329T010000
END:DAYLIGHT
BEGIN:STANDARD
TZOFFSETFROM:+0200
TZOFFSETTO:+0100
TZNAME:CET
DTSTART:20261025T010000
END:STANDARD
END:VTIMEZONE
BEGIN:VEVENT
DTSTART;TZID=Europe/Madrid:20251014T183000
DTEND;TZID=Europe/Madrid:20251014T203000
DTSTAMP:20260422T010650
CREATED:20250930T104907Z
LAST-MODIFIED:20250930T105134Z
UID:63250-1760466600-1760473800@www.ceespv.org
SUMMARY:131/2008 Dekretua berrikusteko bilera
DESCRIPTION:
URL:https://www.ceespv.org/eu/evento/131-2008-dekretua-berrikusteko-bilera/
LOCATION:Sede GHEE CEESPV\, Luzarra kalea\, 14-16\, 4\, dpto 2\, Bilbao\, bizkaia\, 48014
CATEGORIES:GHEEE-CEESPV
ORGANIZER;CN="GHEE CEESPV":MAILTO:ceespv@ceespv.org
END:VEVENT
BEGIN:VEVENT
DTSTART;TZID=Europe/Madrid:20251023T160000
DTEND;TZID=Europe/Madrid:20251023T180000
DTSTAMP:20260422T010650
CREATED:20250930T110511Z
LAST-MODIFIED:20250930T110511Z
UID:63261-1761235200-1761242400@www.ceespv.org
SUMMARY:Arartekoarekin bilera
DESCRIPTION:
URL:https://www.ceespv.org/eu/evento/arartekoarekin-bilera/
LOCATION:presencial Bilbao
CATEGORIES:GHEEE-CEESPV
ORGANIZER;CN="GHEE CEESPV":MAILTO:ceespv@ceespv.org
END:VEVENT
END:VCALENDAR