BEGIN:VCALENDAR
VERSION:2.0
PRODID:-//CEESPV-GHEE - ECPv6.15.20//NONSGML v1.0//EN
CALSCALE:GREGORIAN
METHOD:PUBLISH
X-ORIGINAL-URL:https://www.ceespv.org/eu/
X-WR-CALDESC:Events for CEESPV-GHEE
REFRESH-INTERVAL;VALUE=DURATION:PT1H
X-Robots-Tag:noindex
X-PUBLISHED-TTL:PT1H
BEGIN:VTIMEZONE
TZID:Europe/Madrid
BEGIN:DAYLIGHT
TZOFFSETFROM:+0100
TZOFFSETTO:+0200
TZNAME:CEST
DTSTART:20250330T010000
END:DAYLIGHT
BEGIN:STANDARD
TZOFFSETFROM:+0200
TZOFFSETTO:+0100
TZNAME:CET
DTSTART:20251026T010000
END:STANDARD
BEGIN:DAYLIGHT
TZOFFSETFROM:+0100
TZOFFSETTO:+0200
TZNAME:CEST
DTSTART:20260329T010000
END:DAYLIGHT
BEGIN:STANDARD
TZOFFSETFROM:+0200
TZOFFSETTO:+0100
TZNAME:CET
DTSTART:20261025T010000
END:STANDARD
BEGIN:DAYLIGHT
TZOFFSETFROM:+0100
TZOFFSETTO:+0200
TZNAME:CEST
DTSTART:20270328T010000
END:DAYLIGHT
BEGIN:STANDARD
TZOFFSETFROM:+0200
TZOFFSETTO:+0100
TZNAME:CET
DTSTART:20271031T010000
END:STANDARD
END:VTIMEZONE
BEGIN:VEVENT
DTSTART;TZID=Europe/Madrid:20260209T130000
DTEND;TZID=Europe/Madrid:20260209T143000
DTSTAMP:20260422T001909
CREATED:20260202T112113Z
LAST-MODIFIED:20260202T112113Z
UID:63541-1770642000-1770647400@www.ceespv.org
SUMMARY:HAUR ETA NERABEEN EUSKAL KONTSEILUA
DESCRIPTION:
URL:https://www.ceespv.org/eu/evento/haur-eta-nerabeen-euskal-kontseilua/
LOCATION:Online
CATEGORIES:GHEEE-CEESPV
END:VEVENT
BEGIN:VEVENT
DTSTART;TZID=Europe/Madrid:20260218T100000
DTEND;TZID=Europe/Madrid:20260218T120000
DTSTAMP:20260422T001909
CREATED:20260212T111644Z
LAST-MODIFIED:20260212T111644Z
UID:63545-1771408800-1771416000@www.ceespv.org
SUMMARY:ADIKZIOEN EUSKAL BATZORDEAREN BILERA
DESCRIPTION:
URL:https://www.ceespv.org/eu/evento/adikzioen-euskal-batzordearen-bilera/
LOCATION:Lakua Vitoria-Gasteiz
CATEGORIES:GHEEE-CEESPV
END:VEVENT
END:VCALENDAR