BEGIN:VCALENDAR
VERSION:2.0
PRODID:-//CEESPV-GHEE - ECPv6.15.20//NONSGML v1.0//EN
CALSCALE:GREGORIAN
METHOD:PUBLISH
X-WR-CALNAME:CEESPV-GHEE
X-ORIGINAL-URL:https://www.ceespv.org/eu/
X-WR-CALDESC:Events for CEESPV-GHEE
REFRESH-INTERVAL;VALUE=DURATION:PT1H
X-Robots-Tag:noindex
X-PUBLISHED-TTL:PT1H
BEGIN:VTIMEZONE
TZID:Europe/Madrid
BEGIN:DAYLIGHT
TZOFFSETFROM:+0100
TZOFFSETTO:+0200
TZNAME:CEST
DTSTART:20240331T010000
END:DAYLIGHT
BEGIN:STANDARD
TZOFFSETFROM:+0200
TZOFFSETTO:+0100
TZNAME:CET
DTSTART:20241027T010000
END:STANDARD
BEGIN:DAYLIGHT
TZOFFSETFROM:+0100
TZOFFSETTO:+0200
TZNAME:CEST
DTSTART:20250330T010000
END:DAYLIGHT
BEGIN:STANDARD
TZOFFSETFROM:+0200
TZOFFSETTO:+0100
TZNAME:CET
DTSTART:20251026T010000
END:STANDARD
BEGIN:DAYLIGHT
TZOFFSETFROM:+0100
TZOFFSETTO:+0200
TZNAME:CEST
DTSTART:20260329T010000
END:DAYLIGHT
BEGIN:STANDARD
TZOFFSETFROM:+0200
TZOFFSETTO:+0100
TZNAME:CET
DTSTART:20261025T010000
END:STANDARD
END:VTIMEZONE
BEGIN:VEVENT
DTSTART;TZID=Europe/Madrid:20250201T103000
DTEND;TZID=Europe/Madrid:20250201T123000
DTSTAMP:20260425T012501
CREATED:20250113T104518Z
LAST-MODIFIED:20250113T104518Z
UID:62537-1738405800-1738413000@www.ceespv.org
SUMMARY:Etika eta Deontologia batzordearen bilera\, kodearen ezagutzan\, praxiaren hobekuntzan eta lanbidearen errealitatean sakontzeko
DESCRIPTION:Gizarte Hezitzaileen Lanbide Elkargoko Etika eta Deontologia Batzordetik 2007az geroztik ari gara lanean\, gure lanbidearen kode deontologikoa sustatuz eta gure eguneroko lanean sortzen diren gatazka etikoei buruz hausnartzeko orduan balioan jarriz. \n  \nZenbat aldiz izan duzu gatazka etiko bat zure lanean erabaki bat hartzerakoan? Inoiz pentsatu duzu lan-taldean hartutako erabakiak printzipio deontologikoren bat urra dezakeela?  \n  \nElkargoak eskaintzen duen zerbitzua den aldetik\, garrantzitsua iruditzen zaigu elkargokideengandik gertuago egotea\, eta topaketa bat egin nahiko genuke hurbilagotik ezagutzeko\, batzordea aurkezteko\, egiten dugun lana azaltzeko eta etika profesionaletik eta kodetik kasuen hausnarketara hurbiltzeko. \n  \nHorregatik\, kodearen ezagutzan\, praxiaren hobekuntzan eta lanbidearen errealitatean sakondu nahi duten pertsona guztiak gonbidatu nahi ditugu batzordean parte hartzera. \n  \nHorretarako\, larunbatean\, otsailaren 1ean\, Elkargoaren lokaletan egingo den bilerara deitzen zaituztegu. Topaketa goizeko 10:30ak bitartean izango da\, eguerdiko 12:30ak arte. Bilera online jarraitzeko aukera egongo da. 12:30ean amaitu ondoren\, inguruko tabernaren batean aperitibo bat hartzera joango gara.   \n  \nInteresdun guztiek aldez aurretik jakinarazi behar dute idazkaritzan\, bertaratuta zein modu birtualean. Horrela jakingo dugu lokala parte-hartzaile kopuruarekin bat datorren edo zabalago bat bilatu behar den. Egun honetan etortzerik ez baduzu\, baina gu ezagutzeko edo parte hartzeko interesa baduzu\, idatz iezaguzu!   \n  \nZuen zain gaude.
URL:https://www.ceespv.org/eu/evento/etika-eta-deontologia-batzordearen-bilera-kodearen-ezagutzan-praxiaren-hobekuntzan-eta-lanbidearen-errealitatean-sakontzeko/
LOCATION:Sede GHEE CEESPV\, Luzarra kalea\, 14-16\, 4\, dpto 2\, Bilbao\, bizkaia\, 48014
CATEGORIES:GHEEE-CEESPV
END:VEVENT
BEGIN:VEVENT
DTSTART;TZID=Europe/Madrid:20250206T170000
DTEND;TZID=Europe/Madrid:20250206T183000
DTSTAMP:20260425T012501
CREATED:20250116T082352Z
LAST-MODIFIED:20250116T082352Z
UID:62541-1738861200-1738866600@www.ceespv.org
SUMMARY:Etika eta Deontologia Batzordearen bilera
DESCRIPTION:
URL:https://www.ceespv.org/eu/evento/etika-eta-deontologia-batzordearen-bilera/
LOCATION:Sede GHEE CEESPV\, Luzarra kalea\, 14-16\, 4\, dpto 2\, Bilbao\, bizkaia\, 48014
CATEGORIES:GHEEE-CEESPV
END:VEVENT
END:VCALENDAR